BEGIN:VCALENDAR
VERSION:2.0
PRODID:-//Little Trinity - ECPv6.15.12.2//NONSGML v1.0//EN
CALSCALE:GREGORIAN
METHOD:PUBLISH
X-ORIGINAL-URL:https://littletrinity.org
X-WR-CALDESC:Events for Little Trinity
REFRESH-INTERVAL;VALUE=DURATION:PT1H
X-Robots-Tag:noindex
X-PUBLISHED-TTL:PT1H
BEGIN:VTIMEZONE
TZID:UTC
BEGIN:STANDARD
TZOFFSETFROM:+0000
TZOFFSETTO:+0000
TZNAME:UTC
DTSTART:20250101T000000
END:STANDARD
END:VTIMEZONE
BEGIN:VEVENT
DTSTART;TZID=UTC:20260411T153000
DTEND;TZID=UTC:20260411T183000
DTSTAMP:20260421T022048
CREATED:20240327T161712Z
LAST-MODIFIED:20260318T175806Z
UID:10000070-1775921400-1775932200@littletrinity.org
SUMMARY:Serve Opportunity - Church in Regent Park (CIRP)
DESCRIPTION:Sat\, Apr 11\, 3:30-6:30pm –  On Saturday afternoon\, Apr 11\, join us as we serve desserts and spend time with our neighbours at Church in Regent Park. We will meet at Yonge Street Mission (270 Gerrard St. E.). Volunteers are needed to bring desserts and supplies\, help serve\, pray\, and especially to sit at the tables and share conversation. This is a wonderful family opportunity to serve together. \nIf you would like to participate\, please fill out the attached sign-up form and include your contact information. \nFor questions\, contact Denise Hutchinson at mail4mdeniseh@gmail.com.
URL:https://littletrinity.org/event/serve-opportunity-church-in-regent-park/
LOCATION:Church in Regent Park\, 270 Gerrard Street East\, Toronto\, Ontario\, M5A 2G4\, Canada
ATTACH;FMTTYPE=image/png:https://littletrinity.org/wp-content/uploads/2024/03/C-I-R-P-640-x-480-px-16-x-9-cm-25.png
END:VEVENT
END:VCALENDAR